BEGIN:VCALENDAR
VERSION:2.0
PRODID:-//NERDterpreter - ECPv6.15.20//NONSGML v1.0//EN
CALSCALE:GREGORIAN
METHOD:PUBLISH
X-WR-CALNAME:NERDterpreter
X-ORIGINAL-URL:https://nerdterpreter.com
X-WR-CALDESC:Events for NERDterpreter
REFRESH-INTERVAL;VALUE=DURATION:PT1H
X-Robots-Tag:noindex
X-PUBLISHED-TTL:PT1H
BEGIN:VTIMEZONE
TZID:America/Chicago
BEGIN:DAYLIGHT
TZOFFSETFROM:-0600
TZOFFSETTO:-0500
TZNAME:CDT
DTSTART:20230312T080000
END:DAYLIGHT
BEGIN:STANDARD
TZOFFSETFROM:-0500
TZOFFSETTO:-0600
TZNAME:CST
DTSTART:20231105T070000
END:STANDARD
BEGIN:DAYLIGHT
TZOFFSETFROM:-0600
TZOFFSETTO:-0500
TZNAME:CDT
DTSTART:20240310T080000
END:DAYLIGHT
BEGIN:STANDARD
TZOFFSETFROM:-0500
TZOFFSETTO:-0600
TZNAME:CST
DTSTART:20241103T070000
END:STANDARD
BEGIN:DAYLIGHT
TZOFFSETFROM:-0600
TZOFFSETTO:-0500
TZNAME:CDT
DTSTART:20250309T080000
END:DAYLIGHT
BEGIN:STANDARD
TZOFFSETFROM:-0500
TZOFFSETTO:-0600
TZNAME:CST
DTSTART:20251102T070000
END:STANDARD
END:VTIMEZONE
BEGIN:VEVENT
DTSTART;VALUE=DATE:20240509
DTEND;VALUE=DATE:20240513
DTSTAMP:20260425T212134
CREATED:20240505T213700Z
LAST-MODIFIED:20240505T213700Z
UID:501-1715212800-1715558399@nerdterpreter.com
SUMMARY:Furry Weekend Atlanta
DESCRIPTION:Furry Weekend Atlanta is a convention that takes place in downtown Atlanta\, at the Marriott Marquis. We welcome everyone interested in their furry side; fursuits are not required! Bring your favorite cosplay and add a furry twist by picking up some ears and tails in our Vendor Hall! We have hundreds of hours of programming\, dances\, enormous video game and board game rooms\, an artist alley\, fursuit dance competition and lots more surprises in store.
URL:https://nerdterpreter.com/event/furry-weekend-atlanta/
LOCATION:The Marriott Marquis Atlanta\, 265 Peachtree Center Ave NE\, Atlanta\, GA\, 30303\, United States
END:VEVENT
BEGIN:VEVENT
DTSTART;VALUE=DATE:20240524
DTEND;VALUE=DATE:20240527
DTSTAMP:20260425T212134
CREATED:20240225T030753Z
LAST-MODIFIED:20240225T031104Z
UID:444-1716508800-1716767999@nerdterpreter.com
SUMMARY:Naka-Kon 2024
DESCRIPTION:NERDterpreter will be on site all weekend! Will we see you there!? \nNaka-Kon is an annual three-day convention\, celebrating anime\, manga\, cosplay\, music\, fashion\, gaming\, and more! Every year\, we bring your favorite voice actors\, musicians\, cosplayers\, artists\, designers\, and industry experts to the Overland Park Convention Center. Catch guest panels and performances\, be part of our cosplay competitions\, enter contests\, and learn about working in the anime\, manga\, and music industries.
URL:https://nerdterpreter.com/event/naka-kon-2024/
LOCATION:Overland Park Convention Center\, 6000 College Blvd.\, Overland Park\, KS\, 66211\, United States
ORGANIZER;CN="Naka-Kon":MAILTO:info@naka-kon.com
END:VEVENT
END:VCALENDAR