BEGIN:VCALENDAR
VERSION:2.0
PRODID:-//NERDterpreter - ECPv6.15.20//NONSGML v1.0//EN
CALSCALE:GREGORIAN
METHOD:PUBLISH
X-WR-CALNAME:NERDterpreter
X-ORIGINAL-URL:https://nerdterpreter.com
X-WR-CALDESC:Events for NERDterpreter
REFRESH-INTERVAL;VALUE=DURATION:PT1H
X-Robots-Tag:noindex
X-PUBLISHED-TTL:PT1H
BEGIN:VTIMEZONE
TZID:America/Chicago
BEGIN:DAYLIGHT
TZOFFSETFROM:-0600
TZOFFSETTO:-0500
TZNAME:CDT
DTSTART:20240310T080000
END:DAYLIGHT
BEGIN:STANDARD
TZOFFSETFROM:-0500
TZOFFSETTO:-0600
TZNAME:CST
DTSTART:20241103T070000
END:STANDARD
BEGIN:DAYLIGHT
TZOFFSETFROM:-0600
TZOFFSETTO:-0500
TZNAME:CDT
DTSTART:20250309T080000
END:DAYLIGHT
BEGIN:STANDARD
TZOFFSETFROM:-0500
TZOFFSETTO:-0600
TZNAME:CST
DTSTART:20251102T070000
END:STANDARD
BEGIN:DAYLIGHT
TZOFFSETFROM:-0600
TZOFFSETTO:-0500
TZNAME:CDT
DTSTART:20260308T080000
END:DAYLIGHT
BEGIN:STANDARD
TZOFFSETFROM:-0500
TZOFFSETTO:-0600
TZNAME:CST
DTSTART:20261101T070000
END:STANDARD
BEGIN:DAYLIGHT
TZOFFSETFROM:-0600
TZOFFSETTO:-0500
TZNAME:CDT
DTSTART:20270314T080000
END:DAYLIGHT
BEGIN:STANDARD
TZOFFSETFROM:-0500
TZOFFSETTO:-0600
TZNAME:CST
DTSTART:20271107T070000
END:STANDARD
END:VTIMEZONE
BEGIN:VEVENT
DTSTART;TZID=America/Chicago:20250501T183000
DTEND;TZID=America/Chicago:20250501T200000
DTSTAMP:20260425T081835
CREATED:20250217T160134Z
LAST-MODIFIED:20250217T160134Z
UID:530-1746124200-1746129600@nerdterpreter.com
SUMMARY:Shelf Life: A Big Read Storytelling Event
DESCRIPTION:  \n\nPresented By\nDavid Wayne Reed\n\n\n\nShelf Life was a popular show-and-tell storytelling series at The Brick hosted by writer and director David Wayne Reed. Throughout its five-year run\, the stories at each event were sparked by an object and followed a theme\, such as winning\, time\, and unwanted gifts. \nAs part of Big Read 2025\, a free\, city-wide reading and public engagement initiative of the National Endowment for the Arts\, Shelf Life returns with a focus on soma\, or the body\, exploring how we live in our bodies\, how we relate to our physical selves\, and how our bodies carry us through the world. \nThe event features five new stories from Kansas City-based creatives\, including Reed\, Big Read featured author Rebekah Taussig\, musician and amputee advocate Billy Brimblecom\, actor\, choreographer\, and director Vanessa Severo\, and visual artist and educator Kathy Liao. \nThere’s a “power of sharing one’s own story on stage\,” Reed says\, “and the palpable empathy … from the audience.” \nASL interpreters at featured presentation.
URL:https://nerdterpreter.com/event/shelf-life-a-big-read-storytelling-event/
LOCATION:Kansas City Public Library\, 14 W. 10th Street\, Kansas City\, MO\, 64105\, United States
END:VEVENT
BEGIN:VEVENT
DTSTART;VALUE=DATE:20250508
DTEND;VALUE=DATE:20250512
DTSTAMP:20260425T081835
CREATED:20250217T160350Z
LAST-MODIFIED:20250217T160350Z
UID:532-1746662400-1747007999@nerdterpreter.com
SUMMARY:Furry Weekend Atlanta 2025!
DESCRIPTION:Furry Weekend Atlanta is a convention that takes place in downtown Atlanta\, at the Marriott Marquis. We welcome everyone interested in their furry side; fursuits are not required! Bring your favorite cosplay and add a furry twist by picking up some ears and tails in our Vendor Hall! We have hundreds of hours of programming\, dances\, enormous video game and board game rooms\, an artist alley\, fursuit dance competition and lots more surprises in store.
URL:https://nerdterpreter.com/event/furry-weekend-atlanta-2025/
LOCATION:The Marriott Marquis Atlanta\, 265 Peachtree Center Ave NE\, Atlanta\, GA\, 30303\, United States
END:VEVENT
BEGIN:VEVENT
DTSTART;TZID=America/Chicago:20250524T140000
DTEND;TZID=America/Chicago:20250524T170000
DTSTAMP:20260425T081835
CREATED:20250217T160807Z
LAST-MODIFIED:20250217T160807Z
UID:534-1748095200-1748106000@nerdterpreter.com
SUMMARY:Disney’s Lion King Musical at KC Music Hall
DESCRIPTION:Giraffes strut. Birds swoop. Gazelles leap. The entire Serengeti comes to life as never before. And as the music soars\, Pride Rock slowly emerges from the mist. \n\nMore than 100 million people around the world have experienced the awe-inspiring visual artistry\, the unforgettable music\, and the uniquely theatrical storytelling of this Broadway spectacular – one of the most breathtaking and beloved productions ever to grace the stage. \nWinner of six Tony Awards®\, including Best Musical\, The Lion King brings together one of the most imaginative creative teams on Broadway. Tony Award®-winning director Julie Taymor brings to life a story filled with hope and adventure set against an amazing backdrop of stunning visuals. The Lion King also features the extraordinary work of Tony Award®-winning choreographer Garth Fagan and some of Broadway’s most recognizable music\, crafted by Tony Award®-winning artists Elton John and Tim Rice. \nThere is simply nothing else like The Lion King. \n\nDuration\n2hrs\, 30mins with 1 intermission. \n\n\nRecommended For\nRecommended for ages 6 and up. All guests entering the theater\, regardless of age\, must have a ticket.
URL:https://nerdterpreter.com/event/disneys-lion-king-musical-at-kc-music-hall/
LOCATION:Kansas City Music Hall\, 301 W. 13th Street\, Kansas City\, MO\, 64105\, United States
END:VEVENT
BEGIN:VEVENT
DTSTART;TZID=America/Chicago:20260215T140000
DTEND;TZID=America/Chicago:20260215T170000
DTSTAMP:20260425T081835
CREATED:20260128T025522Z
LAST-MODIFIED:20260128T025522Z
UID:553-1771164000-1771174800@nerdterpreter.com
SUMMARY:OCTA's production of The Father
DESCRIPTION:OCTA is a 501c3 organization that began in 1973. Through the strength and dedication of our community and the help of our invaluable volunteers\, we continue to share high-quality\, thoughtful theatre with Olathe and the greater Kansas City area. \n\n\n\n\n\n\n\nThe Father is a critically acclaimed play by French playwright Florian Zeller\, translated by Christopher Hampton\, that explores dementia through the disorienting experience of its protagonist\, André\, a retired dancer. The play uses a fragmented\, non-linear structure\, with shifting characters and settings\, to mirror André’s confusion as he struggles with memory loss and questions his reality\, leading to a poignant and heartbreaking look at aging and family dynamics. It premiered in Paris in 2012 and has since been staged internationally\, winning numerous awards\, and was adapted into a successful 2020 film starring Anthony Hopkins and Olivia Colman.  \n\n\n\n\n\n\n\n\nKey aspects of the play\n\n\n\n\n\n\n\nPlot: \nAn elderly man\, André\, resists his daughter Anne’s help as his memory deteriorates\, leading to a confusing reality where people and places change\, and he questions who he can trust.  \n\n\n\n\n\n\n\n\n\n\n\n\n\n\nStructure: \nThe play is a “tragic farce” that uses repetition and shifting perspectives to create a sense of disorientation for the audience\, making them experience André’s confusion firsthand.  \n\n\n\n\n\n\n\n\n\n\n\n\n\n\nThemes: \nIdentity\, memory\, aging\, the parent-child relationship\, and the cruelties and complexities of love.  \n\n\n\n\n\n\n\n\n\n\n\n\n\n\nCharacters: \nThe roles of Anne and her partner are played by different actors throughout the play\, further disorienting both André and the audience.  \n\n\n\n\n\n\n\n\n\n\n\n\n\n\nImpact: \nIt is praised for its powerful and empathetic portrayal of dementia\, making the experience accessible and deeply moving for the audience.  \n\n\n\n\n\n\n\n\n\n\n\n\n\nFilm adaptation\n\n\n\nZeller co-wrote and directed the 2020 film adaptation\, which won Academy Awards for Best Adapted Screenplay and Best Actor (Anthony Hopkins). 
URL:https://nerdterpreter.com/event/octas-production-of-the-father/
LOCATION:Olathe Civic Theater Association\, 500 E. Loula\, Olathe\, KS\, 66061\, United States
END:VEVENT
BEGIN:VEVENT
DTSTART;VALUE=DATE:20260313
DTEND;VALUE=DATE:20260316
DTSTAMP:20260425T081835
CREATED:20260128T032257Z
LAST-MODIFIED:20260128T032257Z
UID:556-1773360000-1773619199@nerdterpreter.com
SUMMARY:Naka-Kon
DESCRIPTION:Naka-Kon is an annual three-day convention\, celebrating anime\, manga\, cosplay\, music\, fashion\, gaming\, and more! Every year\, we bring your favorite voice actors\, musicians\, cosplayers\, artists\, designers\, and industry experts to the Overland Park Convention Center. Catch guest panels and performances\, be part of our cosplay competitions\, enter contests\, and learn about working in the anime\, manga\, and music industries.
URL:https://nerdterpreter.com/event/naka-kon/
LOCATION:Overland Park Convention Center\, 6000 College Blvd.\, Overland Park\, KS\, 66211\, United States
ORGANIZER;CN="Naka-Kon":MAILTO:info@naka-kon.com
END:VEVENT
BEGIN:VEVENT
DTSTART;VALUE=DATE:20260320
DTEND;VALUE=DATE:20260323
DTSTAMP:20260425T081835
CREATED:20260128T032718Z
LAST-MODIFIED:20260128T033112Z
UID:558-1773964800-1774223999@nerdterpreter.com
SUMMARY:Heartland Men's Chorus
DESCRIPTION:Dust off your Walkman\, tease up that hair\, and crank the synthesizer — because we’re going Back to the 80s! \nMarch 20th\, 2026 7:30p \nMarch 21st\, 2026 7:30p \nMarch 22\, 2026 3:30p \nCelebrate the decade that shaped a generation — and gave rise to HMCKC — with this neon-soaked\, nostalgia-packed tribute to the music that made us. From pop anthems and power ballads to guilty pleasures and dance-floor favorites\, the full chorus brings big harmonies\, big laughs\, and even bigger shoulder pads to the Folly stage. \nIt’s a flashback you won’t want to miss — full of retro joy\, radical moves\, and heart you can’t fake. \nTotally live. Totally proud. Totally 80s.
URL:https://nerdterpreter.com/event/heartland-mens-chorus/
LOCATION:Folly Theater\, 300 W. 12th St.\, Kansas City\, MO\, 641005\, United States
END:VEVENT
BEGIN:VEVENT
DTSTART;VALUE=DATE:20260327
DTEND;VALUE=DATE:20260330
DTSTAMP:20260425T081835
CREATED:20260128T033538Z
LAST-MODIFIED:20260128T033600Z
UID:564-1774569600-1774828799@nerdterpreter.com
SUMMARY:Planet Comicon Kansas City
DESCRIPTION:Welcome to Planet Comicon Kansas City 2026! Whether you’ve been with us since the very first Planet in 1999 or you’re making your first trip\, pre-launch planning will allow you to make the most of your experience. \nWe look forward to seeing you at Bartle Hall for Planet Comicon Kansas City\, March 27-29 2026! \nPlanet Comicon KC 2026 happens at the Kansas City Convention Center (Bartle Hall) \n301 W 13th St\, Kansas City\, MO 64105 \nFriday March 27: 1:00PM-8:00PM (Weekend Fast Pass Holders & VIP 12:30pm) \nSaturday March 28: 10:00AM-7:00PM (Weekend Fast Pass Holders & VIP 9:30am) \nSunday March 29: 10:00AM-5:00PM \n 
URL:https://nerdterpreter.com/event/planet-comicon-kansas-city/
LOCATION:Kansas City Convention Center\, 301 W. 13th St\, Kansas City\, MO\, 64105\, United States
END:VEVENT
BEGIN:VEVENT
DTSTART;VALUE=DATE:20260403
DTEND;VALUE=DATE:20260406
DTSTAMP:20260425T081835
CREATED:20260128T034137Z
LAST-MODIFIED:20260128T034137Z
UID:566-1775174400-1775433599@nerdterpreter.com
SUMMARY:Las Vegas Fur Con
DESCRIPTION:Las Vegas Fur Con (LVFC) is a gathering for fans of anthropomorphic (commonly known as “furry”) art and works held in Las Vegas\, Nevada. The convention is organized by Southern Nevada Anthropomorphic Events (SNAE)\, a 501(c)(3) nonprofit organization incorporated in Nevada. SNAE is committed to empowering communities and raising funds to help charitable causes\, particularly those relevant to its missions of diversity; at present\, the Board of Directors numbers 12\, being majority BIPOC\, majority transgender\, and majority non-male. \nLVFC and SNAE grew out of UNLV’s Rebel Anthropomorphic Works and Recreation club\, or RAWR\, which has hosted smaller gatherings in the past\, before bringing on new talent in order to organize a proper convention. This new talent includes sole proprietors\, artists\, furmeet organizers\, and locals chatroom moderators.
URL:https://nerdterpreter.com/event/las-vegas-fur-con/
LOCATION:Alexis Park\, Serene Boutique\, 375 E Harmon Ave.\, Las Vegas\, NV\, 89169\, United States
END:VEVENT
BEGIN:VEVENT
DTSTART;VALUE=DATE:20260424
DTEND;VALUE=DATE:20260427
DTSTAMP:20260425T081835
CREATED:20260128T034356Z
LAST-MODIFIED:20260128T034356Z
UID:569-1776988800-1777247999@nerdterpreter.com
SUMMARY:AnimeSTL
DESCRIPTION:Anime STL is St. Louis’ largest anime convention!\n\n\n\n\n\nJoin thousands of your fellow fans at the St. Louis region’s largest anime and manga focused\, comic con style event!  For almost two decades\, fun industry guests\, a variety of exhibitors\, creative cosplays\, and interactive programming has filled our venue to the brim; and we’re looking forward to doing it again in April!  Plan ahead and pre-register in order to save on your admission\, and enjoy checking out all the details as we plan for another fun year.
URL:https://nerdterpreter.com/event/animestl/
LOCATION:St. Charles Convention Center\, 1 Convention Center Plaza\, St. Charles\, MO\, 63303\, United States
END:VEVENT
BEGIN:VEVENT
DTSTART;TZID=America/Chicago:20260502T100000
DTEND;TZID=America/Chicago:20260502T160000
DTSTAMP:20260425T081835
CREATED:20260405T210307Z
LAST-MODIFIED:20260405T210307Z
UID:578-1777716000-1777737600@nerdterpreter.com
SUMMARY:The Art of being AANHPI
DESCRIPTION:HELLA GOOD DEEDS AND CAFE CA PHE PRESENT OUR 6th ANNUAL ASIAN AMERICAN NATIVE HAWAIIAN PACIFIC ISLANDER FESTIVAL — May 2\, 2026! The Art of Being AANHPI returns for an entire day of celebrating the many ways we are…us. We are incredibly honored to support Hella Good Deeds’ mission to love on our community. Join us for an entire day of celebration. Food\, performances\, multiple floors of art\, many vendors\, wellness practices\, incredible activations for your kids + the entire family. What makes us beautiful? What makes our hearts and bellies full? What does it feel like to listen to the melodies of our ancestors while teaching the new generations the tastes we grew up with?All of these things we explore during our festival and we are so thrilled to bring you another event that tightens our community’s thread together. Tickets are available now. Register for your ticket – link in bio
URL:https://nerdterpreter.com/event/the-art-of-being-aanhpi/
LOCATION:Zhou B Art Center\, 1801 E 18th St.\, Kansas City\, Missouri\, 64127
END:VEVENT
BEGIN:VEVENT
DTSTART;VALUE=DATE:20260507
DTEND;VALUE=DATE:20260511
DTSTAMP:20260425T081835
CREATED:20260405T211516Z
LAST-MODIFIED:20260405T211516Z
UID:582-1778112000-1778457599@nerdterpreter.com
SUMMARY:Furry Weekend Atlanta
DESCRIPTION:Furry Weekend Atlanta is one of the largest furry conventions in the world! We are a community-driven\, volunteer-led organization that is devoted to providing memorable\, educational\, inclusive\, and safe experiences where our community is encouraged to explore and express their true self.We’re proud to be a place that so many people in this incredibly welcoming\, creative community call home!
URL:https://nerdterpreter.com/event/furry-weekend-atlanta-2/
LOCATION:The Marriott Marquis Atlanta\, 265 Peachtree Center Ave NE\, Atlanta\, GA\, 30303\, United States
END:VEVENT
BEGIN:VEVENT
DTSTART;VALUE=DATE:20260605
DTEND;VALUE=DATE:20260608
DTSTAMP:20260425T081835
CREATED:20260405T213626Z
LAST-MODIFIED:20260405T213626Z
UID:586-1780617600-1780876799@nerdterpreter.com
SUMMARY:Kansas City Pride
DESCRIPTION:
URL:https://nerdterpreter.com/event/kansas-city-pride/
LOCATION:Theis Park\, 4800 Oak St.\, Kansas City\, MO\, 64110\, United States
END:VEVENT
BEGIN:VEVENT
DTSTART;TZID=America/Chicago:20260607T140000
DTEND;TZID=America/Chicago:20260607T170000
DTSTAMP:20260425T081835
CREATED:20260405T212426Z
LAST-MODIFIED:20260405T212426Z
UID:584-1780840800-1780851600@nerdterpreter.com
SUMMARY:OCTA's production of The Twelfth Night
DESCRIPTION:Twelfth Night: A Musical Adaptation Of William Shakespeare’s Twelfth Night\nConceived by Kwame Kwei-Armah & Shaina Taub\nMusic and Lyrics by Shaina Taub\nDirected by Ashton Botts\nMusic Direction by Ashley Jones Rivers\nMay 29th-June 14th\, 2026 \n“…a rousing contemporary musical adaptation of Shakespeare’s classic romantic comedy about mistaken identity and self-discovery. Twelfth Night tells the story of Viola\, a young heroine who washes up on the shores of Illyria\, disguises herself as a man\, is sent to court a countess and falls hard for a Duke. As she navigates this strange and wonderful new land\, she finds her true self and true love in the process.” (Concord Theatricals)
URL:https://nerdterpreter.com/event/octas-production-of-the-twelfth-night/
LOCATION:Olathe Civic Theater Association\, 500 E. Loula\, Olathe\, KS\, 66061\, United States
END:VEVENT
BEGIN:VEVENT
DTSTART;VALUE=DATE:20261016
DTEND;VALUE=DATE:20261019
DTSTAMP:20260425T081835
CREATED:20260405T213906Z
LAST-MODIFIED:20260405T213906Z
UID:588-1792108800-1792367999@nerdterpreter.com
SUMMARY:GateWay FurMeet
DESCRIPTION:
URL:https://nerdterpreter.com/event/gateway-furmeet/
LOCATION:Hilton St. Louis at The Ballpark\, 1 South Broadway\, St. Louis\, Missouri\, 63012
END:VEVENT
BEGIN:VEVENT
DTSTART;VALUE=DATE:20261203
DTEND;VALUE=DATE:20261207
DTSTAMP:20260425T081835
CREATED:20260405T214102Z
LAST-MODIFIED:20260405T214102Z
UID:592-1796256000-1796601599@nerdterpreter.com
SUMMARY:MidWest FurFest
DESCRIPTION:
URL:https://nerdterpreter.com/event/midwest-furfest-2/
LOCATION:Donald E. Stephens Convention Center\, 5555 N River Road\, Rosemont\, IL\, 60018\, United States
END:VEVENT
END:VCALENDAR