BEGIN:VCALENDAR
VERSION:2.0
PRODID:-//NERDterpreter - ECPv6.15.20//NONSGML v1.0//EN
CALSCALE:GREGORIAN
METHOD:PUBLISH
X-WR-CALNAME:NERDterpreter
X-ORIGINAL-URL:https://nerdterpreter.com
X-WR-CALDESC:Events for NERDterpreter
REFRESH-INTERVAL;VALUE=DURATION:PT1H
X-Robots-Tag:noindex
X-PUBLISHED-TTL:PT1H
BEGIN:VTIMEZONE
TZID:America/Chicago
BEGIN:DAYLIGHT
TZOFFSETFROM:-0600
TZOFFSETTO:-0500
TZNAME:CDT
DTSTART:20250309T080000
END:DAYLIGHT
BEGIN:STANDARD
TZOFFSETFROM:-0500
TZOFFSETTO:-0600
TZNAME:CST
DTSTART:20251102T070000
END:STANDARD
BEGIN:DAYLIGHT
TZOFFSETFROM:-0600
TZOFFSETTO:-0500
TZNAME:CDT
DTSTART:20260308T080000
END:DAYLIGHT
BEGIN:STANDARD
TZOFFSETFROM:-0500
TZOFFSETTO:-0600
TZNAME:CST
DTSTART:20261101T070000
END:STANDARD
BEGIN:DAYLIGHT
TZOFFSETFROM:-0600
TZOFFSETTO:-0500
TZNAME:CDT
DTSTART:20270314T080000
END:DAYLIGHT
BEGIN:STANDARD
TZOFFSETFROM:-0500
TZOFFSETTO:-0600
TZNAME:CST
DTSTART:20271107T070000
END:STANDARD
END:VTIMEZONE
BEGIN:VEVENT
DTSTART;VALUE=DATE:20260403
DTEND;VALUE=DATE:20260406
DTSTAMP:20260424T090849
CREATED:20260128T034137Z
LAST-MODIFIED:20260128T034137Z
UID:566-1775174400-1775433599@nerdterpreter.com
SUMMARY:Las Vegas Fur Con
DESCRIPTION:Las Vegas Fur Con (LVFC) is a gathering for fans of anthropomorphic (commonly known as “furry”) art and works held in Las Vegas\, Nevada. The convention is organized by Southern Nevada Anthropomorphic Events (SNAE)\, a 501(c)(3) nonprofit organization incorporated in Nevada. SNAE is committed to empowering communities and raising funds to help charitable causes\, particularly those relevant to its missions of diversity; at present\, the Board of Directors numbers 12\, being majority BIPOC\, majority transgender\, and majority non-male. \nLVFC and SNAE grew out of UNLV’s Rebel Anthropomorphic Works and Recreation club\, or RAWR\, which has hosted smaller gatherings in the past\, before bringing on new talent in order to organize a proper convention. This new talent includes sole proprietors\, artists\, furmeet organizers\, and locals chatroom moderators.
URL:https://nerdterpreter.com/event/las-vegas-fur-con/
LOCATION:Alexis Park\, Serene Boutique\, 375 E Harmon Ave.\, Las Vegas\, NV\, 89169\, United States
END:VEVENT
END:VCALENDAR