BEGIN:VCALENDAR
VERSION:2.0
PRODID:-//NERDterpreter - ECPv6.15.20//NONSGML v1.0//EN
CALSCALE:GREGORIAN
METHOD:PUBLISH
X-ORIGINAL-URL:https://nerdterpreter.com
X-WR-CALDESC:Events for NERDterpreter
REFRESH-INTERVAL;VALUE=DURATION:PT1H
X-Robots-Tag:noindex
X-PUBLISHED-TTL:PT1H
BEGIN:VTIMEZONE
TZID:America/Chicago
BEGIN:DAYLIGHT
TZOFFSETFROM:-0600
TZOFFSETTO:-0500
TZNAME:CDT
DTSTART:20230312T080000
END:DAYLIGHT
BEGIN:STANDARD
TZOFFSETFROM:-0500
TZOFFSETTO:-0600
TZNAME:CST
DTSTART:20231105T070000
END:STANDARD
BEGIN:DAYLIGHT
TZOFFSETFROM:-0600
TZOFFSETTO:-0500
TZNAME:CDT
DTSTART:20240310T080000
END:DAYLIGHT
BEGIN:STANDARD
TZOFFSETFROM:-0500
TZOFFSETTO:-0600
TZNAME:CST
DTSTART:20241103T070000
END:STANDARD
BEGIN:DAYLIGHT
TZOFFSETFROM:-0600
TZOFFSETTO:-0500
TZNAME:CDT
DTSTART:20250309T080000
END:DAYLIGHT
BEGIN:STANDARD
TZOFFSETFROM:-0500
TZOFFSETTO:-0600
TZNAME:CST
DTSTART:20251102T070000
END:STANDARD
END:VTIMEZONE
BEGIN:VEVENT
DTSTART;VALUE=DATE:20241205
DTEND;VALUE=DATE:20241209
DTSTAMP:20260425T114138
CREATED:20240225T034457Z
LAST-MODIFIED:20240225T034457Z
UID:463-1733356800-1733702399@nerdterpreter.com
SUMMARY:MidWest FurFest
DESCRIPTION:NERDterpreter will be back to MidWest FurFest! \nMFF is presented by Midwest Furry Fandom Inc\, an Illinois Educational Not-For-Profit Corporation that exists primarily for the purpose of holding an annual convention to facilitate education in anthropomorphic literature and art. It also facilitates the donation of funds to non-profit institutions\, mainly of which promote the well-being of humans and/or animals. The convention was first held in 2000 and has grown to draw 15\,547 attendees in 2023. As of December 2023\, the 2023 event is the most attended convention in fandom history.
URL:https://nerdterpreter.com/event/midwest-furfest/
LOCATION:Donald E. Stephens Convention Center\, 5555 N River Road\, Rosemont\, IL\, 60018\, United States
END:VEVENT
END:VCALENDAR