BEGIN:VCALENDAR
VERSION:2.0
PRODID:-//NERDterpreter - ECPv6.15.20//NONSGML v1.0//EN
CALSCALE:GREGORIAN
METHOD:PUBLISH
X-WR-CALNAME:NERDterpreter
X-ORIGINAL-URL:https://nerdterpreter.com
X-WR-CALDESC:Events for NERDterpreter
REFRESH-INTERVAL;VALUE=DURATION:PT1H
X-Robots-Tag:noindex
X-PUBLISHED-TTL:PT1H
BEGIN:VTIMEZONE
TZID:America/Chicago
BEGIN:DAYLIGHT
TZOFFSETFROM:-0600
TZOFFSETTO:-0500
TZNAME:CDT
DTSTART:20230312T080000
END:DAYLIGHT
BEGIN:STANDARD
TZOFFSETFROM:-0500
TZOFFSETTO:-0600
TZNAME:CST
DTSTART:20231105T070000
END:STANDARD
BEGIN:DAYLIGHT
TZOFFSETFROM:-0600
TZOFFSETTO:-0500
TZNAME:CDT
DTSTART:20240310T080000
END:DAYLIGHT
BEGIN:STANDARD
TZOFFSETFROM:-0500
TZOFFSETTO:-0600
TZNAME:CST
DTSTART:20241103T070000
END:STANDARD
BEGIN:DAYLIGHT
TZOFFSETFROM:-0600
TZOFFSETTO:-0500
TZNAME:CDT
DTSTART:20250309T080000
END:DAYLIGHT
BEGIN:STANDARD
TZOFFSETFROM:-0500
TZOFFSETTO:-0600
TZNAME:CST
DTSTART:20251102T070000
END:STANDARD
END:VTIMEZONE
BEGIN:VEVENT
DTSTART;VALUE=DATE:20240607
DTEND;VALUE=DATE:20240610
DTSTAMP:20260425T212134
CREATED:20240225T033710Z
LAST-MODIFIED:20240505T215253Z
UID:457-1717718400-1717977599@nerdterpreter.com
SUMMARY:KC PrideFest
DESCRIPTION:NERDterpreter will be on site for Pride! \n  \nAbout KC PrideFest \n\n\nOur Mission\n\n\n\n\nThe mission of the Kansas City P.R.I.D.E. Community Alliance is to provide educational opportunities\, support\, social activities\, and advocacy to enrich the lives of LGBTQ+ people in an inclusive environment for all. \n\n\n\n\n\n\n\n\n\n\n\nOur Vision\n\n\n\n\nWe will celebrate and recognize the history and heritage of LGBTQ+ people in Kansas City and beyond. KCPCA will work to create an alliance with related organizations and allies to achieve and promote common goals.
URL:https://nerdterpreter.com/event/kc-pridefest/
LOCATION:Theis Park\, 4800 Oak St.\, Kansas City\, MO\, 64110\, United States
END:VEVENT
END:VCALENDAR